BEGIN:VCALENDAR
VERSION:2.0
PRODID:-//114.23.141.151//NONSGML kigkonsult.se iCalcreator 2.26.9//
CALSCALE:GREGORIAN
METHOD:PUBLISH
X-WR-CALNAME:Trentham Sports Centre
X-WR-CALDESC:The most affordable sports centre in Upper Hutt\, Wellington\,
  New Zealand
X-FROM-URL:https://trenthamsportscentre.co.nz
X-WR-TIMEZONE:Pacific/Auckland
BEGIN:VTIMEZONE
TZID:Pacific/Auckland
X-LIC-LOCATION:Pacific/Auckland
BEGIN:STANDARD
DTSTART:20200405T030000
TZOFFSETFROM:+1300
TZOFFSETTO:+1200
RDATE:20210404T030000
TZNAME:NZST
END:STANDARD
BEGIN:DAYLIGHT
DTSTART:20190929T020000
TZOFFSETFROM:+1200
TZOFFSETTO:+1300
RDATE:20200927T020000
TZNAME:NZDT
END:DAYLIGHT
END:VTIMEZONE
BEGIN:VEVENT
UID:ai1ec-1625@trenthamsportscentre.co.nz
DTSTAMP:20191218T100156Z
CATEGORIES:
CONTACT:
DESCRIPTION:
DTSTART;TZID=Pacific/Auckland:20191030T170000
DTEND;TZID=Pacific/Auckland:20191030T180000
RDATE;TZID=Pacific/Auckland:20191030T170000
RDATE;TZID=Pacific/Auckland:20191106T170000
RDATE;TZID=Pacific/Auckland:20191113T170000
RDATE;TZID=Pacific/Auckland:20191127T170000
RDATE;TZID=Pacific/Auckland:20191204T170000
RDATE;TZID=Pacific/Auckland:20191209T170000
RDATE;TZID=Pacific/Auckland:20191216T170000
RDATE;TZID=Pacific/Auckland:20200106T170000
SEQUENCE:0
SUMMARY:Dan Parker – Sadiq. Using lane 2 only.
URL:https://trenthamsportscentre.co.nz/event/dan-parker-sadiq-using-lane-2-
 only/
X-COST-TYPE:free
END:VEVENT
END:VCALENDAR
