BEGIN:VCALENDAR
VERSION:2.0
PRODID:-//114.23.141.151//NONSGML kigkonsult.se iCalcreator 2.26.9//
CALSCALE:GREGORIAN
METHOD:PUBLISH
X-WR-CALNAME:Trentham Sports Centre
X-WR-CALDESC:The most affordable sports centre in Upper Hutt\, Wellington\,
  New Zealand
X-FROM-URL:https://trenthamsportscentre.co.nz
X-WR-TIMEZONE:Pacific/Auckland
BEGIN:VTIMEZONE
TZID:Pacific/Auckland
X-LIC-LOCATION:Pacific/Auckland
BEGIN:STANDARD
DTSTART:20200405T030000
TZOFFSETFROM:+1300
TZOFFSETTO:+1200
RDATE:20210404T030000
TZNAME:NZST
END:STANDARD
BEGIN:DAYLIGHT
DTSTART:20190929T020000
TZOFFSETFROM:+1200
TZOFFSETTO:+1300
RDATE:20200927T020000
TZNAME:NZDT
END:DAYLIGHT
END:VTIMEZONE
BEGIN:VEVENT
UID:ai1ec-1472@trenthamsportscentre.co.nz
DTSTAMP:20191218T095912Z
CATEGORIES:
CONTACT:
DESCRIPTION:
DTSTART;TZID=Pacific/Auckland:20190903T183000
DTEND;TZID=Pacific/Auckland:20190903T200000
RDATE;TZID=Pacific/Auckland:20190903T183000
RDATE;TZID=Pacific/Auckland:20190905T183000
RDATE;TZID=Pacific/Auckland:20190910T183000
RDATE;TZID=Pacific/Auckland:20190912T183000
RDATE;TZID=Pacific/Auckland:20190919T183000
RDATE;TZID=Pacific/Auckland:20190924T183000
RDATE;TZID=Pacific/Auckland:20190926T183000
RDATE;TZID=Pacific/Auckland:20191001T183000
RDATE;TZID=Pacific/Auckland:20191003T183000
RDATE;TZID=Pacific/Auckland:20191008T183000
RDATE;TZID=Pacific/Auckland:20191010T183000
RDATE;TZID=Pacific/Auckland:20191015T183000
RDATE;TZID=Pacific/Auckland:20191017T183000
RDATE;TZID=Pacific/Auckland:20191022T183000
RDATE;TZID=Pacific/Auckland:20191024T183000
RDATE;TZID=Pacific/Auckland:20191029T183000
RDATE;TZID=Pacific/Auckland:20191031T183000
RDATE;TZID=Pacific/Auckland:20191105T183000
RDATE;TZID=Pacific/Auckland:20191107T183000
RDATE;TZID=Pacific/Auckland:20191112T183000
RDATE;TZID=Pacific/Auckland:20191114T183000
RDATE;TZID=Pacific/Auckland:20191119T183000
RDATE;TZID=Pacific/Auckland:20191121T183000
RDATE;TZID=Pacific/Auckland:20191126T183000
RDATE;TZID=Pacific/Auckland:20191128T183000
RDATE;TZID=Pacific/Auckland:20191203T183000
RDATE;TZID=Pacific/Auckland:20191205T183000
RDATE;TZID=Pacific/Auckland:20191210T183000
RDATE;TZID=Pacific/Auckland:20191212T183000
RDATE;TZID=Pacific/Auckland:20191217T183000
RDATE;TZID=Pacific/Auckland:20191219T183000
SEQUENCE:0
SUMMARY:Upper Hutt United CC
URL:https://trenthamsportscentre.co.nz/event/upper-hutt-united-cc/
X-COST-TYPE:free
END:VEVENT
END:VCALENDAR
