BEGIN:VCALENDAR
VERSION:2.0
PRODID:-//114.23.141.151//NONSGML kigkonsult.se iCalcreator 2.26.9//
CALSCALE:GREGORIAN
METHOD:PUBLISH
X-WR-CALNAME:Trentham Sports Centre
X-WR-CALDESC:The most affordable sports centre in Upper Hutt\, Wellington\,
  New Zealand
X-FROM-URL:https://trenthamsportscentre.co.nz
X-WR-TIMEZONE:Pacific/Auckland
BEGIN:VTIMEZONE
TZID:Pacific/Auckland
X-LIC-LOCATION:Pacific/Auckland
BEGIN:STANDARD
DTSTART:20200405T030000
TZOFFSETFROM:+1300
TZOFFSETTO:+1200
RDATE:20210404T030000
TZNAME:NZST
END:STANDARD
BEGIN:DAYLIGHT
DTSTART:20190929T020000
TZOFFSETFROM:+1200
TZOFFSETTO:+1300
RDATE:20200927T020000
TZNAME:NZDT
END:DAYLIGHT
END:VTIMEZONE
BEGIN:VEVENT
UID:ai1ec-1460@trenthamsportscentre.co.nz
DTSTAMP:20191218T100326Z
CATEGORIES:
CONTACT:
DESCRIPTION:
DTSTART;TZID=Pacific/Auckland:20191107T170000
DTEND;TZID=Pacific/Auckland:20191107T180000
RDATE;TZID=Pacific/Auckland:20191107T170000
RDATE;TZID=Pacific/Auckland:20191114T170000
RDATE;TZID=Pacific/Auckland:20191121T170000
RDATE;TZID=Pacific/Auckland:20191128T170000
RDATE;TZID=Pacific/Auckland:20191205T170000
RDATE;TZID=Pacific/Auckland:20191212T170000
SEQUENCE:0
SUMMARY:JCUH – Superstar Cricket Academy – Jeremy Rijk
URL:https://trenthamsportscentre.co.nz/event/jcuh-superstar-cricket-academy
 -jeremy-rijk/
X-COST-TYPE:free
END:VEVENT
END:VCALENDAR
